Index of /checkResults/3.15/bioc-LATEST/CNVMetrics/raw-results
Name
Last modified
Size
Description
Parent Directory
-
info.dcf
25-Jun-2022 01:07
281
merida1/
25-Jun-2022 01:07
-
nebbiolo1/
25-Jun-2022 01:04
-
palomino3/
25-Jun-2022 01:05
-
riesling1/
19-Mar-2022 00:07
-