Name | Last modified | Size | Description | |
---|---|---|---|---|
Parent Directory | - | |||
install-summary.dcf | 20-Oct-2022 02:20 | 253 | ||
install-out.txt | 20-Oct-2022 02:20 | 16K | ||
checksrc-summary.dcf | 20-Oct-2022 02:20 | 412 | ||
checksrc-out.txt | 20-Oct-2022 02:20 | 4.8K | ||
buildsrc-summary.dcf | 20-Oct-2022 02:20 | 409 | ||
buildsrc-out.txt | 20-Oct-2022 02:20 | 1.3K | ||