Index of /checkResults/3.15/bioc-LATEST/CAGEr/raw-results/nebbiolo1

[ICO]NameLast modifiedSizeDescription

[DIR]Parent Directory  -  
[TXT]buildsrc-out.txt16-Aug-2022 02:20 797  
[   ]buildsrc-summary.dcf16-Aug-2022 02:20 410  
[TXT]checksrc-out.txt16-Aug-2022 02:20 3.4K 
[   ]checksrc-summary.dcf16-Aug-2022 02:20 414  
[TXT]install-out.txt16-Aug-2022 02:20 1.0K 
[   ]install-summary.dcf16-Aug-2022 02:20 254