Index of /checkResults/3.15/bioc-LATEST/CAGEfightR/raw-results/palomino3

[ICO]NameLast modifiedSizeDescription

[DIR]Parent Directory  -  
[TXT]buildbin-out.txt16-Aug-2022 02:21 1.1K 
[   ]buildbin-summary.dcf16-Aug-2022 02:21 533  
[TXT]buildsrc-out.txt16-Aug-2022 02:21 854  
[   ]buildsrc-summary.dcf16-Aug-2022 02:21 465  
[TXT]checksrc-out.txt16-Aug-2022 02:21 3.2K 
[   ]checksrc-summary.dcf16-Aug-2022 02:21 459  
[TXT]install-out.txt16-Aug-2022 02:21 1.0K 
[   ]install-summary.dcf16-Aug-2022 02:21 274