Index of /checkResults/3.15/bioc-LATEST/CAGEfightR/raw-results/nebbiolo1

[ICO]NameLast modifiedSizeDescription

[DIR]Parent Directory  -  
[TXT]buildsrc-out.txt16-Aug-2022 02:20 818  
[   ]buildsrc-summary.dcf16-Aug-2022 02:20 426  
[TXT]checksrc-out.txt16-Aug-2022 02:20 3.2K 
[   ]checksrc-summary.dcf16-Aug-2022 02:20 436  
[TXT]install-out.txt16-Aug-2022 02:20 1.0K 
[   ]install-summary.dcf16-Aug-2022 02:20 265