Name | Last modified | Size | Description | |
---|---|---|---|---|
Parent Directory | - | |||
buildbin-out.txt | 20-Oct-2022 02:22 | 2.8K | ||
buildbin-summary.dcf | 20-Oct-2022 02:22 | 575 | ||
buildsrc-out.txt | 20-Oct-2022 02:22 | 910 | ||
buildsrc-summary.dcf | 20-Oct-2022 02:22 | 450 | ||
checksrc-out.txt | 20-Oct-2022 02:22 | 4.2K | ||
checksrc-summary.dcf | 20-Oct-2022 02:22 | 480 | ||
install-out.txt | 20-Oct-2022 02:22 | 2.5K | ||
install-summary.dcf | 20-Oct-2022 02:22 | 284 | ||