Name | Last modified | Size | Description | |
---|---|---|---|---|
Parent Directory | - | |||
buildbin-out.txt | 19-Mar-2022 00:07 | 2.8K | ||
buildbin-summary.dcf | 19-Mar-2022 00:07 | 545 | ||
buildsrc-out.txt | 19-Mar-2022 00:07 | 901 | ||
buildsrc-summary.dcf | 19-Mar-2022 00:07 | 473 | ||
checksrc-out.txt | 19-Mar-2022 00:07 | 3.7K | ||
checksrc-summary.dcf | 19-Mar-2022 00:07 | 467 | ||
install-out.txt | 19-Mar-2022 00:07 | 2.7K | ||
install-summary.dcf | 19-Mar-2022 00:07 | 278 | ||