Name | Last modified | Size | Description | |
---|---|---|---|---|
Parent Directory | - | |||
buildsrc-out.txt | 20-Oct-2022 02:20 | 1.2K | ||
buildsrc-summary.dcf | 20-Oct-2022 02:20 | 412 | ||
checksrc-out.txt | 20-Oct-2022 02:20 | 10K | ||
checksrc-summary.dcf | 20-Oct-2022 02:20 | 416 | ||
install-out.txt | 20-Oct-2022 02:20 | 949 | ||
install-summary.dcf | 20-Oct-2022 02:20 | 255 | ||