Back to Multiple platform build/check report for BioC 3.15
A[B]CDEFGHIJKLMNOPQRSTUVWXYZ

This page was generated on 2022-05-18 12:05:14 -0400 (Wed, 18 May 2022).

HostnameOSArch (*)R versionInstalled pkgs
nebbiolo1Linux (Ubuntu 20.04.4 LTS)x86_644.2.0 (2022-04-22) -- "Vigorous Calisthenics" 4379
palomino3Windows Server 2022 Datacenterx644.2.0 (2022-04-22 ucrt) -- "Vigorous Calisthenics" 4154
merida1macOS 10.14.6 Mojavex86_644.2.0 (2022-04-22) -- "Vigorous Calisthenics" 4220
Click on any hostname to see more info about the system (e.g. compilers)      (*) as reported by 'uname -p', except on Windows and Mac OS X

CHECK results for BiGGR on nebbiolo1


To the developers/maintainers of the BiGGR package:
- Please allow up to 24 hours (and sometimes 48 hours) for your latest push to git@git.bioconductor.org:packages/BiGGR.git to
reflect on this report. See How and When does the builder pull? When will my changes propagate? for more information.
- Make sure to use the following settings in order to reproduce any error or warning you see on this page.

raw results

Package 148/2140HostnameOS / ArchINSTALLBUILDCHECKBUILD BIN
BiGGR 1.32.0  (landing page)
Anand K. Gavai
Snapshot Date: 2022-05-17 13:55:01 -0400 (Tue, 17 May 2022)
git_url: https://git.bioconductor.org/packages/BiGGR
git_branch: RELEASE_3_15
git_last_commit: bf5b686
git_last_commit_date: 2022-04-26 11:16:07 -0400 (Tue, 26 Apr 2022)
nebbiolo1Linux (Ubuntu 20.04.4 LTS) / x86_64  OK    OK    OK  UNNEEDED, same version is already published
palomino3Windows Server 2022 Datacenter / x64  OK    OK    OK    OK  UNNEEDED, same version is already published
merida1macOS 10.14.6 Mojave / x86_64... NOT SUPPORTED ...

Summary

Package: BiGGR
Version: 1.32.0
Command: /home/biocbuild/bbs-3.15-bioc/R/bin/R CMD check --install=check:BiGGR.install-out.txt --library=/home/biocbuild/bbs-3.15-bioc/R/library --no-vignettes --timings BiGGR_1.32.0.tar.gz
StartedAt: 2022-05-17 18:31:18 -0400 (Tue, 17 May 2022)
EndedAt: 2022-05-17 18:35:09 -0400 (Tue, 17 May 2022)
EllapsedTime: 230.5 seconds
RetCode: 0
Status:   OK  
CheckDir: BiGGR.Rcheck
Warnings: 0

Command output

##############################################################################
##############################################################################
###
### Running command:
###
###   /home/biocbuild/bbs-3.15-bioc/R/bin/R CMD check --install=check:BiGGR.install-out.txt --library=/home/biocbuild/bbs-3.15-bioc/R/library --no-vignettes --timings BiGGR_1.32.0.tar.gz
###
##############################################################################
##############################################################################


* using log directory ‘/home/biocbuild/bbs-3.15-bioc/meat/BiGGR.Rcheck’
* using R version 4.2.0 (2022-04-22)
* using platform: x86_64-pc-linux-gnu (64-bit)
* using session charset: UTF-8
* using option ‘--no-vignettes’
* checking for file ‘BiGGR/DESCRIPTION’ ... OK
* checking extension type ... Package
* this is package ‘BiGGR’ version ‘1.32.0’
* checking package namespace information ... OK
* checking package dependencies ... OK
* checking if this is a source package ... OK
* checking if there is a namespace ... OK
* checking for hidden files and directories ... NOTE
Found the following hidden files and directories:
  .BBSoptions
These were most likely included in error. See section ‘Package
structure’ in the ‘Writing R Extensions’ manual.
* checking for portable file names ... OK
* checking for sufficient/correct file permissions ... OK
* checking whether package ‘BiGGR’ can be installed ... OK
* checking installed package size ... OK
* checking package directory ... OK
* checking ‘build’ directory ... OK
* checking DESCRIPTION meta-information ... OK
* checking top-level files ... OK
* checking for left-over files ... OK
* checking index information ... OK
* checking package subdirectories ... OK
* checking R files for non-ASCII characters ... OK
* checking R files for syntax errors ... OK
* checking whether the package can be loaded ... OK
* checking whether the package can be loaded with stated dependencies ... OK
* checking whether the package can be unloaded cleanly ... OK
* checking whether the namespace can be loaded with stated dependencies ... OK
* checking whether the namespace can be unloaded cleanly ... OK
* checking dependencies in R code ... NOTE
Package in Depends field not imported from: ‘stringr’
  These packages need to be imported from (in the NAMESPACE file)
  for when this namespace is loaded but not attached.
* checking S3 generic/method consistency ... OK
* checking replacement functions ... OK
* checking foreign function calls ... OK
* checking R code for possible problems ... NOTE
.buildSubModel: no visible global function definition for ‘new’
buildSBMLFromBiGG: no visible global function definition for
  ‘read.delim’
buildSBMLFromBiGG : <anonymous>: no visible global function definition
  for ‘new’
buildSBMLFromBiGG: no visible global function definition for ‘new’
createLIMFromSBML: no visible global function definition for ‘hasArg’
gprMapping: no visible global function definition for ‘str_detect’
gprMapping: no visible global function definition for ‘na.omit’
gprMappingAvg: no visible global function definition for ‘na.omit’
sampleFluxEnsemble: no visible global function definition for ‘Xsample’
sbml2hyperdraw : <anonymous>: no visible binding for global variable
  ‘species’
sbml2hyperdraw: no visible global function definition for ‘hasArg’
sbml2hyperdraw: no visible global function definition for ‘graphLayout’
sbml2hyperdraw: no visible global function definition for
  ‘nodeDataDefaults<-’
sbml2hyperdraw: no visible global function definition for
  ‘edgeDataDefaults<-’
sbml2hyperdraw: no visible global function definition for
  ‘graphDataDefaults<-’
sbml2hyperdraw : <anonymous>: no visible global function definition for
  ‘edgeData<-’
Undefined global functions or variables:
  Xsample edgeData<- edgeDataDefaults<- graphDataDefaults<- graphLayout
  hasArg na.omit new nodeDataDefaults<- read.delim species str_detect
Consider adding
  importFrom("methods", "hasArg", "new")
  importFrom("stats", "na.omit")
  importFrom("utils", "read.delim")
to your NAMESPACE file (and ensure that your DESCRIPTION Imports field
contains 'methods').
* checking Rd files ... OK
* checking Rd metadata ... OK
* checking Rd cross-references ... OK
* checking for missing documentation entries ... OK
* checking for code/documentation mismatches ... OK
* checking Rd \usage sections ... OK
* checking Rd contents ... OK
* checking for unstated dependencies in examples ... OK
* checking contents of ‘data’ directory ... OK
* checking data for non-ASCII characters ... OK
* checking data for ASCII and uncompressed saves ... OK
* checking installed files from ‘inst/doc’ ... OK
* checking files in ‘vignettes’ ... OK
* checking examples ... OK
Examples with CPU (user + system) or elapsed time > 5s
                      user system elapsed
gprMapping         113.485  0.959 114.450
gprMappingAvg       12.628  0.024  12.653
buildSBMLFromGenes   5.075  0.076   5.151
* checking for unstated dependencies in vignettes ... OK
* checking package vignettes in ‘inst/doc’ ... OK
* checking running R code from vignettes ... SKIPPED
* checking re-building of vignette outputs ... SKIPPED
* checking PDF version of manual ... OK
* DONE

Status: 3 NOTEs
See
  ‘/home/biocbuild/bbs-3.15-bioc/meat/BiGGR.Rcheck/00check.log’
for details.



Installation output

BiGGR.Rcheck/00install.out

##############################################################################
##############################################################################
###
### Running command:
###
###   /home/biocbuild/bbs-3.15-bioc/R/bin/R CMD INSTALL BiGGR
###
##############################################################################
##############################################################################


* installing to library ‘/home/biocbuild/bbs-3.15-bioc/R/library’
* installing *source* package ‘BiGGR’ ...
** using staged installation
** R
** data
** inst
** byte-compile and prepare package for lazy loading
** help
*** installing help indices
** building package indices
** installing vignettes
** testing if installed package can be loaded from temporary location
** testing if installed package can be loaded from final location
** testing if installed package keeps a record of temporary installation path
* DONE (BiGGR)

Tests output


Example timings

BiGGR.Rcheck/BiGGR-Ex.timings

nameusersystemelapsed
BiGGR-package1.9410.0251.970
E.coli_iAF12600.6370.0680.705
E.coli_iJR9040.3380.0240.362
E.coli_textbook0.0190.0040.023
H.pylori_ilT3410.1230.0120.136
H.sapiens_Recon11.2150.0961.310
M.barkeri_iAF6920.2070.0280.236
M.tuberculosis_iNJ6610.2610.0310.293
P.putida_iJN7460.2880.0240.312
Recon22.0300.2112.241
S.aureus_iSB6190.2040.0320.236
S.cerevisiae_iND7500.3440.0480.392
buildSBMLFromBiGG0.0710.0200.091
buildSBMLFromGenes5.0750.0765.151
buildSBMLFromPathways3.7800.0323.812
buildSBMLFromReactionIDs1.9660.0111.978
createLIMFromBiGG0.070.000.07
createLIMFromSBML0.8520.0040.857
extractGeneAssociations2.2740.0112.286
extractPathways2.2520.0082.260
getPathwaysForSBML2.4960.0162.512
getRates0.0040.0000.004
gprMapping113.485 0.959114.450
gprMappingAvg12.628 0.02412.653
lying.tunell.data0.0020.0000.002
rmvSpliceVariant1.8090.0001.809
sampleFluxEnsemble1.6720.0201.693
sbml2hyperdraw2.0790.0002.079