Name | Last modified | Size | Description | |
---|---|---|---|---|
Parent Directory | - | |||
checksrc-summary.dcf | 20-Oct-2022 02:19 | 434 | ||
checksrc-out.txt | 20-Oct-2022 02:19 | 3.6K | ||
buildsrc-summary.dcf | 20-Oct-2022 02:19 | 425 | ||
buildsrc-out.txt | 20-Oct-2022 02:19 | 847 | ||
install-summary.dcf | 20-Oct-2022 02:19 | 264 | ||
install-out.txt | 20-Oct-2022 02:19 | 2.1K | ||