Name | Last modified | Size | Description | |
---|---|---|---|---|
Parent Directory | - | |||
install-summary.dcf | 20-Oct-2022 02:22 | 275 | ||
install-out.txt | 20-Oct-2022 02:22 | 2.7K | ||
checksrc-summary.dcf | 20-Oct-2022 02:22 | 454 | ||
checksrc-out.txt | 20-Oct-2022 02:22 | 3.7K | ||
buildsrc-summary.dcf | 20-Oct-2022 02:22 | 435 | ||
buildsrc-out.txt | 20-Oct-2022 02:22 | 857 | ||
buildbin-summary.dcf | 20-Oct-2022 02:22 | 546 | ||
buildbin-out.txt | 20-Oct-2022 02:22 | 4.1K | ||