Name | Last modified | Size | Description | |
---|---|---|---|---|
Parent Directory | - | |||
install-summary.dcf | 19-Mar-2022 00:06 | 282 | ||
install-out.txt | 19-Mar-2022 00:06 | 1.6K | ||
checksrc-summary.dcf | 19-Mar-2022 00:06 | 474 | ||
checksrc-out.txt | 19-Mar-2022 00:06 | 3.1K | ||
buildsrc-summary.dcf | 19-Mar-2022 00:06 | 480 | ||
buildsrc-out.txt | 19-Mar-2022 00:06 | 874 | ||
buildbin-summary.dcf | 19-Mar-2022 00:06 | 557 | ||
buildbin-out.txt | 19-Mar-2022 00:06 | 1.4K | ||