Name | Last modified | Size | Description | |
---|---|---|---|---|
Parent Directory | - | |||
buildsrc-out.txt | 20-Oct-2022 02:19 | 870 | ||
buildsrc-summary.dcf | 20-Oct-2022 02:19 | 435 | ||
checksrc-out.txt | 20-Oct-2022 02:19 | 3.2K | ||
checksrc-summary.dcf | 20-Oct-2022 02:19 | 448 | ||
install-out.txt | 20-Oct-2022 02:19 | 1.0K | ||
install-summary.dcf | 20-Oct-2022 02:19 | 271 | ||