Name | Last modified | Size | Description | |
---|---|---|---|---|
Parent Directory | - | |||
checksrc-out.txt | 20-Oct-2022 02:22 | 3.3K | ||
buildbin-out.txt | 20-Oct-2022 02:22 | 1.3K | ||
install-out.txt | 20-Oct-2022 02:22 | 1.1K | ||
buildsrc-out.txt | 20-Oct-2022 02:22 | 880 | ||
buildbin-summary.dcf | 20-Oct-2022 02:22 | 566 | ||
checksrc-summary.dcf | 20-Oct-2022 02:22 | 468 | ||
buildsrc-summary.dcf | 20-Oct-2022 02:22 | 445 | ||
install-summary.dcf | 20-Oct-2022 02:22 | 281 | ||