Name | Last modified | Size | Description | |
---|---|---|---|---|
Parent Directory | - | |||
install-summary.dcf | 19-Mar-2022 00:07 | 261 | ||
install-out.txt | 19-Mar-2022 00:07 | 11K | ||
checksrc-summary.dcf | 19-Mar-2022 00:07 | 430 | ||
checksrc-out.txt | 19-Mar-2022 00:07 | 4.6K | ||
buildsrc-summary.dcf | 19-Mar-2022 00:07 | 436 | ||
buildsrc-out.txt | 19-Mar-2022 00:07 | 926 | ||
buildbin-summary.dcf | 19-Mar-2022 00:07 | 491 | ||
buildbin-out.txt | 19-Mar-2022 00:07 | 11K | ||