![]() | Name | Last modified | Size | Description |
---|---|---|---|---|
![]() | Parent Directory | - | ||
![]() | install-summary.dcf | 19-Mar-2022 00:06 | 279 | |
![]() | install-out.txt | 19-Mar-2022 00:06 | 5.5M | |
![]() | buildsrc-summary.dcf | 19-Mar-2022 00:06 | 473 | |
![]() | buildsrc-out.txt | 19-Mar-2022 00:06 | 896 | |
![]() | checksrc-out.txt | 19-Mar-2022 00:06 | 4.3K | |
![]() | checksrc-summary.dcf | 19-Mar-2022 00:06 | 467 | |
![]() | buildbin-summary.dcf | 19-Mar-2022 00:06 | 543 | |
![]() | buildbin-out.txt | 19-Mar-2022 00:06 | 5.5M | |