Name | Last modified | Size | Description | |
---|---|---|---|---|
Parent Directory | - | |||
install-summary.dcf | 20-Oct-2022 02:21 | 278 | ||
install-out.txt | 20-Oct-2022 02:21 | 57K | ||
checksrc-summary.dcf | 20-Oct-2022 02:21 | 467 | ||
checksrc-out.txt | 20-Oct-2022 02:21 | 4.3K | ||
buildsrc-summary.dcf | 20-Oct-2022 02:21 | 473 | ||
buildsrc-out.txt | 20-Oct-2022 02:21 | 896 | ||
buildbin-summary.dcf | 20-Oct-2022 02:21 | 545 | ||
buildbin-out.txt | 20-Oct-2022 02:21 | 57K | ||