![]() | Name | Last modified | Size | Description |
---|---|---|---|---|
![]() | Parent Directory | - | ||
![]() | install-out.txt | 20-Oct-2022 02:20 | 60K | |
![]() | install-summary.dcf | 20-Oct-2022 02:20 | 269 | |
![]() | buildsrc-out.txt | 20-Oct-2022 02:20 | 856 | |
![]() | buildsrc-summary.dcf | 20-Oct-2022 02:20 | 433 | |
![]() | checksrc-out.txt | 20-Oct-2022 02:20 | 3.7K | |
![]() | checksrc-summary.dcf | 20-Oct-2022 02:20 | 444 | |