Name | Last modified | Size | Description | |
---|---|---|---|---|
Parent Directory | - | |||
install-summary.dcf | 19-Mar-2022 00:06 | 266 | ||
checksrc-summary.dcf | 19-Mar-2022 00:06 | 442 | ||
buildsrc-summary.dcf | 19-Mar-2022 00:06 | 448 | ||
buildbin-summary.dcf | 19-Mar-2022 00:06 | 509 | ||
buildsrc-out.txt | 19-Mar-2022 00:06 | 926 | ||
install-out.txt | 19-Mar-2022 00:06 | 2.1K | ||
buildbin-out.txt | 19-Mar-2022 00:06 | 2.2K | ||
checksrc-out.txt | 19-Mar-2022 00:06 | 4.8K | ||