Index of /checkResults/3.15/bioc-LATEST/Autotuner/raw-results/palomino3
Name
Last modified
Size
Description
Parent Directory
-
install-summary.dcf
20-Oct-2022 02:21
272
buildsrc-summary.dcf
20-Oct-2022 02:21
374
buildsrc-out.txt
20-Oct-2022 02:21
1.2K
install-out.txt
20-Oct-2022 02:21
1.2K