Index of /checkResults/3.15/bioc-LATEST/ArrayExpressHTS/raw-results

[ICO]NameLast modifiedSizeDescription

[DIR]Parent Directory  -  
[   ]info.dcf02-Jul-2022 01:07 324  
[DIR]merida1/02-Jul-2022 01:07 -  
[DIR]nebbiolo1/02-Jul-2022 01:04 -