Name | Last modified | Size | Description | |
---|---|---|---|---|
Parent Directory | - | |||
buildbin-out.txt | 19-Mar-2022 00:06 | 1.8K | ||
buildbin-summary.dcf | 19-Mar-2022 00:06 | 576 | ||
buildsrc-out.txt | 19-Mar-2022 00:06 | 889 | ||
buildsrc-summary.dcf | 19-Mar-2022 00:06 | 492 | ||
checksrc-out.txt | 19-Mar-2022 00:06 | 4.3K | ||
checksrc-summary.dcf | 19-Mar-2022 00:06 | 493 | ||
install-out.txt | 19-Mar-2022 00:06 | 1.7K | ||
install-summary.dcf | 19-Mar-2022 00:06 | 288 | ||