Name | Last modified | Size | Description | |
---|---|---|---|---|
Parent Directory | - | |||
install-summary.dcf | 20-Oct-2022 02:22 | 281 | ||
install-out.txt | 20-Oct-2022 02:22 | 1.4K | ||
checksrc-summary.dcf | 20-Oct-2022 02:22 | 468 | ||
checksrc-out.txt | 20-Oct-2022 02:22 | 3.6K | ||
buildsrc-summary.dcf | 20-Oct-2022 02:22 | 445 | ||
buildsrc-out.txt | 20-Oct-2022 02:22 | 840 | ||
buildbin-summary.dcf | 20-Oct-2022 02:22 | 566 | ||
buildbin-out.txt | 20-Oct-2022 02:22 | 1.7K | ||