Name | Last modified | Size | Description | |
---|---|---|---|---|
Parent Directory | - | |||
buildsrc-out.txt | 20-Oct-2022 02:19 | 848 | ||
buildsrc-summary.dcf | 20-Oct-2022 02:19 | 427 | ||
checksrc-out.txt | 20-Oct-2022 02:19 | 4.8K | ||
checksrc-summary.dcf | 20-Oct-2022 02:19 | 442 | ||
install-out.txt | 20-Oct-2022 02:19 | 3.2K | ||
install-summary.dcf | 20-Oct-2022 02:19 | 265 | ||