Name | Last modified | Size | Description | |
---|---|---|---|---|
Parent Directory | - | |||
buildsrc-out.txt | 20-Oct-2022 02:19 | 806 | ||
buildsrc-summary.dcf | 20-Oct-2022 02:19 | 417 | ||
checksrc-out.txt | 20-Oct-2022 02:19 | 3.6K | ||
checksrc-summary.dcf | 20-Oct-2022 02:19 | 423 | ||
install-out.txt | 20-Oct-2022 02:19 | 1.0K | ||
install-summary.dcf | 20-Oct-2022 02:19 | 258 | ||