Name | Last modified | Size | Description | |
---|---|---|---|---|
Parent Directory | - | |||
install-summary.dcf | 19-Mar-2022 00:06 | 276 | ||
checksrc-summary.dcf | 19-Mar-2022 00:06 | 463 | ||
buildsrc-summary.dcf | 19-Mar-2022 00:06 | 469 | ||
buildbin-summary.dcf | 19-Mar-2022 00:06 | 540 | ||
buildsrc-out.txt | 19-Mar-2022 00:06 | 919 | ||
install-out.txt | 19-Mar-2022 00:06 | 2.5K | ||
buildbin-out.txt | 19-Mar-2022 00:06 | 2.7K | ||
checksrc-out.txt | 19-Mar-2022 00:06 | 12K | ||