Name | Last modified | Size | Description | |
---|---|---|---|---|
Parent Directory | - | |||
install-summary.dcf | 19-Mar-2022 00:06 | 266 | ||
checksrc-summary.dcf | 19-Mar-2022 00:06 | 443 | ||
buildsrc-summary.dcf | 19-Mar-2022 00:06 | 449 | ||
buildbin-summary.dcf | 19-Mar-2022 00:06 | 509 | ||
buildsrc-out.txt | 19-Mar-2022 00:06 | 1.0K | ||
buildbin-out.txt | 19-Mar-2022 00:06 | 1.9K | ||
install-out.txt | 19-Mar-2022 00:06 | 1.9K | ||
checksrc-out.txt | 19-Mar-2022 00:06 | 3.9K | ||