![]() | Name | Last modified | Size | Description |
---|---|---|---|---|
![]() | Parent Directory | - | ||
![]() | install-summary.dcf | 19-Mar-2022 00:06 | 269 | |
![]() | buildsrc-summary.dcf | 19-Mar-2022 00:06 | 454 | |
![]() | checksrc-summary.dcf | 19-Mar-2022 00:06 | 455 | |
![]() | buildbin-summary.dcf | 19-Mar-2022 00:06 | 518 | |
![]() | buildsrc-out.txt | 19-Mar-2022 00:06 | 843 | |
![]() | buildbin-out.txt | 19-Mar-2022 00:06 | 3.2K | |
![]() | install-out.txt | 19-Mar-2022 00:06 | 3.3K | |
![]() | checksrc-out.txt | 19-Mar-2022 00:06 | 3.3K | |