Name | Last modified | Size | Description | |
---|---|---|---|---|
Parent Directory | - | |||
buildbin-out.txt | 20-Oct-2022 02:22 | 1.2K | ||
buildbin-summary.dcf | 20-Oct-2022 02:22 | 506 | ||
buildsrc-out.txt | 20-Oct-2022 02:22 | 800 | ||
buildsrc-summary.dcf | 20-Oct-2022 02:22 | 415 | ||
checksrc-out.txt | 20-Oct-2022 02:22 | 3.6K | ||
checksrc-summary.dcf | 20-Oct-2022 02:22 | 428 | ||
install-out.txt | 20-Oct-2022 02:22 | 1.0K | ||
install-summary.dcf | 20-Oct-2022 02:22 | 261 | ||