Index of /checkResults/3.14/workflows-LATEST/rnaseqGene/raw-results/riesling1
Name
Last modified
Size
Description
Parent Directory
-
buildsrc-out.txt
12-Apr-2022 10:00
926
buildsrc-summary.dcf
12-Apr-2022 10:00
465
install-out.txt
12-Apr-2022 10:00
1.9K
install-summary.dcf
12-Apr-2022 10:00
660