Index of /checkResults/3.14/workflows-LATEST/rnaseqGene/raw-results/nebbiolo2
Name
Last modified
Size
Description
Parent Directory
-
buildsrc-summary.dcf
12-Apr-2022 10:00
427
buildsrc-out.txt
12-Apr-2022 10:00
892
install-summary.dcf
12-Apr-2022 10:00
265
install-out.txt
12-Apr-2022 10:00
947