Index of /checkResults/3.14/workflows-LATEST/rnaseqGene/raw-results/machv2
Name
Last modified
Size
Description
Parent Directory
-
buildsrc-summary.dcf
12-Apr-2022 10:00
437
buildsrc-out.txt
12-Apr-2022 10:00
902
install-out.txt
12-Apr-2022 10:00
1.0K
install-summary.dcf
12-Apr-2022 10:00
275