Index of /checkResults/3.14/workflows-LATEST/rnaseqGene/raw-results
Name
Last modified
Size
Description
Parent Directory
-
nebbiolo2/
12-Apr-2022 10:00
-
riesling1/
12-Apr-2022 10:00
-
info.dcf
12-Apr-2022 10:00
284
machv2/
12-Apr-2022 10:00
-