Index of /checkResults/3.14/workflows-LATEST/recountWorkflow/raw-results/riesling1
Name
Last modified
Size
Description
Parent Directory
-
install-out.txt
12-Apr-2022 10:00
2.1K
buildsrc-out.txt
12-Apr-2022 10:00
879
install-summary.dcf
12-Apr-2022 10:00
705
buildsrc-summary.dcf
12-Apr-2022 10:00
485