Index of /checkResults/3.14/workflows-LATEST/recountWorkflow/raw-results/nebbiolo2
Name
Last modified
Size
Description
Parent Directory
-
buildsrc-out.txt
12-Apr-2022 10:00
838
buildsrc-summary.dcf
12-Apr-2022 10:00
443
install-out.txt
12-Apr-2022 10:00
971
install-summary.dcf
12-Apr-2022 10:00
275