Index of /checkResults/3.14/workflows-LATEST/recountWorkflow/raw-results/machv2
Name
Last modified
Size
Description
Parent Directory
-
install-summary.dcf
12-Apr-2022 10:00
285
buildsrc-summary.dcf
12-Apr-2022 10:00
453
buildsrc-out.txt
12-Apr-2022 10:00
848
install-out.txt
12-Apr-2022 10:00
1.0K