Index of /checkResults/3.14/workflows-LATEST/proteomics/raw-results/nebbiolo2
Name
Last modified
Size
Description
Parent Directory
-
install-summary.dcf
12-Apr-2022 10:00
265
buildsrc-summary.dcf
12-Apr-2022 10:00
340
install-out.txt
12-Apr-2022 10:00
939
buildsrc-out.txt
12-Apr-2022 10:00
10K