Index of /checkResults/3.14/workflows-LATEST/methylationArrayAnalysis/raw-results/nebbiolo2
Name
Last modified
Size
Description
Parent Directory
-
install-summary.dcf
12-Apr-2022 10:00
294
install-out.txt
12-Apr-2022 10:00
1.0K
buildsrc-summary.dcf
12-Apr-2022 10:00
469
buildsrc-out.txt
12-Apr-2022 10:00
948