Index of /checkResults/3.14/workflows-LATEST/maEndToEnd/raw-results/riesling1
Name
Last modified
Size
Description
Parent Directory
-
buildsrc-summary.dcf
12-Apr-2022 10:00
465
install-summary.dcf
12-Apr-2022 10:00
660
buildsrc-out.txt
12-Apr-2022 10:00
854
install-out.txt
12-Apr-2022 10:00
2.2K