Index of /checkResults/3.14/workflows-LATEST/maEndToEnd/raw-results/machv2
Name
Last modified
Size
Description
Parent Directory
-
buildsrc-out.txt
12-Apr-2022 10:00
828
buildsrc-summary.dcf
12-Apr-2022 10:00
437
install-out.txt
12-Apr-2022 10:00
1.1K
install-summary.dcf
12-Apr-2022 10:00
275