Index of /checkResults/3.14/workflows-LATEST/highthroughputassays/raw-results/nebbiolo2
Name
Last modified
Size
Description
Parent Directory
-
install-summary.dcf
12-Apr-2022 10:00
285
install-out.txt
12-Apr-2022 10:00
1.0K
buildsrc-summary.dcf
12-Apr-2022 10:00
456
buildsrc-out.txt
12-Apr-2022 10:00
932