Index of /checkResults/3.14/workflows-LATEST/highthroughputassays/raw-results
Name
Last modified
Size
Description
Parent Directory
-
info.dcf
12-Apr-2022 10:00
323
nebbiolo2/
12-Apr-2022 10:00
-