Index of /checkResults/3.14/workflows-LATEST/generegulation/raw-results/riesling1
Name
Last modified
Size
Description
Parent Directory
-
install-summary.dcf
12-Apr-2022 10:00
696
install-out.txt
12-Apr-2022 10:00
2.1K
buildsrc-summary.dcf
12-Apr-2022 10:00
480
buildsrc-out.txt
12-Apr-2022 10:00
946