Index of /checkResults/3.14/workflows-LATEST/generegulation/raw-results/machv2
Name
Last modified
Size
Description
Parent Directory
-
install-out.txt
12-Apr-2022 10:00
1.1K
install-summary.dcf
12-Apr-2022 10:00
283
buildsrc-out.txt
12-Apr-2022 10:00
918
buildsrc-summary.dcf
12-Apr-2022 10:00
448