Index of /checkResults/3.14/workflows-LATEST/cytofWorkflow/raw-results/machv2
Name
Last modified
Size
Description
Parent Directory
-
install-summary.dcf
12-Apr-2022 10:00
281
buildsrc-summary.dcf
12-Apr-2022 10:00
445
buildsrc-out.txt
12-Apr-2022 10:00
880
install-out.txt
12-Apr-2022 10:00
1.3K