Index of /checkResults/3.14/workflows-LATEST/arrays/raw-results/machv2
Name
Last modified
Size
Description
Parent Directory
-
install-summary.dcf
12-Apr-2022 10:00
267
buildsrc-summary.dcf
12-Apr-2022 10:00
423
buildsrc-out.txt
12-Apr-2022 10:00
812
install-out.txt
12-Apr-2022 10:00
964