Index of /checkResults/3.14/workflows-LATEST/TCGAWorkflow/raw-results/machv2
Name
Last modified
Size
Description
Parent Directory
-
buildsrc-out.txt
12-Apr-2022 10:00
5.1K
buildsrc-summary.dcf
12-Apr-2022 10:00
354
install-out.txt
12-Apr-2022 10:00
1.4K
install-summary.dcf
12-Apr-2022 10:00
279