Index of /checkResults/3.14/workflows-LATEST/SingscoreAMLMutations/raw-results/riesling1
Name
Last modified
Size
Description
Parent Directory
-
install-out.txt
12-Apr-2022 10:00
2.5K
install-summary.dcf
12-Apr-2022 10:00
759
buildsrc-out.txt
12-Apr-2022 10:00
2.6K
buildsrc-summary.dcf
12-Apr-2022 10:00
410