Index of /checkResults/3.14/workflows-LATEST/SingscoreAMLMutations/raw-results/nebbiolo2
Name
Last modified
Size
Description
Parent Directory
-
buildsrc-out.txt
12-Apr-2022 10:00
2.5K
buildsrc-summary.dcf
12-Apr-2022 10:00
361
install-out.txt
12-Apr-2022 10:00
1.2K
install-summary.dcf
12-Apr-2022 10:00
287