Index of /checkResults/3.14/workflows-LATEST/SingscoreAMLMutations/raw-results/machv2
Name
Last modified
Size
Description
Parent Directory
-
install-summary.dcf
12-Apr-2022 10:00
297
buildsrc-summary.dcf
12-Apr-2022 10:00
371
install-out.txt
12-Apr-2022 10:00
1.2K
buildsrc-out.txt
12-Apr-2022 10:00
2.5K